BEGIN:VCALENDAR
VERSION:2.0
PRODID:-//Senator James Ruchti for Idaho District 29 - ECPv6.15.16.1//NONSGML v1.0//EN
CALSCALE:GREGORIAN
METHOD:PUBLISH
X-ORIGINAL-URL:https://jamesforidaho.com
X-WR-CALDESC:Events for Senator James Ruchti for Idaho District 29
REFRESH-INTERVAL;VALUE=DURATION:PT1H
X-Robots-Tag:noindex
X-PUBLISHED-TTL:PT1H
BEGIN:VTIMEZONE
TZID:UTC
BEGIN:STANDARD
TZOFFSETFROM:+0000
TZOFFSETTO:+0000
TZNAME:UTC
DTSTART:20220101T000000
END:STANDARD
END:VTIMEZONE
BEGIN:VEVENT
DTSTART;TZID=UTC:20230311T173000
DTEND;TZID=UTC:20230311T210000
DTSTAMP:20260423T155829
CREATED:20230220T051424Z
LAST-MODIFIED:20230220T051851Z
UID:669-1678555800-1678568400@jamesforidaho.com
SUMMARY:2023 Frank and Bethine Church Gala
DESCRIPTION:Join us March 11th for the Annual Frank & Bethine Church Gala. Hear from a fantastic lineup of speakers and enjoy a quality dinner with fellow Idaho Democrats. \nNow entering its 29th year\, the Frank and Bethine Church Gala is the premier social event for Idaho Democrats. Each year\, hundreds of Democrats from every corner of Idaho gather in Downtown Boise for a rich evening featuring local and national leaders in the Democratic Party. \nCLICK HERE TO LEARN MORE AND REGISTER
URL:https://jamesforidaho.com/event/2023-frank-and-bethine-church-gala/
LOCATION:Boise Centre on the Grove\, 850 West Front Street\, Boise\, ID\, 83702\, United States
ATTACH;FMTTYPE=image/jpeg:https://jamesforidaho.com/wp-content/uploads/2023/02/gala-banner.jpg
END:VEVENT
BEGIN:VEVENT
DTSTART;TZID=UTC:20230225T150000
DTEND;TZID=UTC:20230225T173000
DTSTAMP:20260423T155829
CREATED:20230220T050433Z
LAST-MODIFIED:20230220T050433Z
UID:659-1677337200-1677346200@jamesforidaho.com
SUMMARY:District 29 Democrats Town Hall
DESCRIPTION:On February 25\, 2023\, Sen. James Ruchti and Rep. Nate Roberts would like to invite you to a town hall at Pocatello City Hall. The event will begin at 3pm and questions will be answered until at least 5pm. \nBe part of the conversation with your Idaho legislators about what’s happening in Boise. Topics include\, but are not limited to \n\nEducation Funding\nWomens’ Rights\nVoting Rights\nConsumer Protection\nWorkers’ Rights\nPublic Lands\n\nCLICK HERE TO RSVP
URL:https://jamesforidaho.com/event/district-29-democrats-town-hall/
LOCATION:City of Pocatello – City Hall\, 911 N 7th Ave\, Pocatello\, ID\, 83201\, United States
ATTACH;FMTTYPE=image/jpeg:https://jamesforidaho.com/wp-content/uploads/2023/02/d29-town-hall.jpg
END:VEVENT
END:VCALENDAR